BEGIN:VCALENDAR
VERSION:2.0
PRODID:-//Plone.org//NONSGML plone.app.event//EN
X-WR-TIMEZONE:Europe/Berlin
BEGIN:VEVENT
SUMMARY:Il Progetto IFFI – Inventario dei Fenomeni Franosi in Italia: me
 todologia e risultati
DTSTART;TZID=Europe/Berlin;VALUE=DATE-TIME:20070101T090000
DTEND;TZID=Europe/Berlin;VALUE=DATE-TIME:20070101T150000
DTSTAMP;VALUE=DATE-TIME:20260424T193819Z
UID:7474af9c8da34e08be1930434c6c5038@www.isprambiente.gov.it
CREATED;VALUE=DATE-TIME:20070101T100000Z
DESCRIPTION:Workshop
LAST-MODIFIED;VALUE=DATE-TIME:20230120T134305Z
LOCATION:Roma
URL:https://www.isprambiente.gov.it/it/archivio/eventi/anno-2007/frane
END:VEVENT
BEGIN:VTIMEZONE
TZID:Europe/Berlin
X-LIC-LOCATION:Europe/Berlin
BEGIN:STANDARD
DTSTART;VALUE=DATE-TIME:20061029T020000
TZNAME:CET
TZOFFSETFROM:+0200
TZOFFSETTO:+0100
END:STANDARD
END:VTIMEZONE
END:VCALENDAR
