BEGIN:VCALENDAR
VERSION:2.0
PRODID:-//Plone.org//NONSGML plone.app.event//EN
X-WR-TIMEZONE:Europe/Berlin
BEGIN:VEVENT
SUMMARY:Ambiente\, paesaggio e infrastrutture
DTSTART;TZID=Europe/Berlin;VALUE=DATE-TIME:20090101T090000
DTEND;TZID=Europe/Berlin;VALUE=DATE-TIME:20090101T150000
DTSTAMP;VALUE=DATE-TIME:20260419T163021Z
UID:3a1e219df7c341ba998424c40b84b8fb@www.isprambiente.gov.it
CREATED;VALUE=DATE-TIME:20090101T100000Z
DESCRIPTION:Convegno
LAST-MODIFIED;VALUE=DATE-TIME:20230120T134256Z
LOCATION:Roma
URL:https://www.isprambiente.gov.it/it/archivio/eventi/anno-2009/amb-paes-
 infra
END:VEVENT
BEGIN:VTIMEZONE
TZID:Europe/Berlin
X-LIC-LOCATION:Europe/Berlin
BEGIN:STANDARD
DTSTART;VALUE=DATE-TIME:20081026T020000
TZNAME:CET
TZOFFSETFROM:+0200
TZOFFSETTO:+0100
END:STANDARD
END:VTIMEZONE
END:VCALENDAR
