BEGIN:VCALENDAR
VERSION:2.0
PRODID:-//Plone.org//NONSGML plone.app.event//EN
X-WR-TIMEZONE:Europe/Berlin
BEGIN:VEVENT
SUMMARY:6th INQUA International Workshop – Fucino 2015 
DTSTART;TZID=Europe/Berlin;VALUE=DATE-TIME:20150419T100000
DTEND;TZID=Europe/Berlin;VALUE=DATE-TIME:20150424T180000
DTSTAMP;VALUE=DATE-TIME:20260423T091538Z
UID:0b4609737abd4196b3ed26347b717579@www.isprambiente.gov.it
CREATED;VALUE=DATE-TIME:20150416T171749Z
LAST-MODIFIED;VALUE=DATE-TIME:20230120T134232Z
LOCATION:Pescina (AQ)
URL:https://www.isprambiente.gov.it/it/archivio/eventi/anno-2015/aprile/6t
 h-inqua-international-workshop-2013-fucino-2015
END:VEVENT
BEGIN:VTIMEZONE
TZID:Europe/Berlin
X-LIC-LOCATION:Europe/Berlin
BEGIN:DAYLIGHT
DTSTART;VALUE=DATE-TIME:20150329T030000
TZNAME:CEST
TZOFFSETFROM:+0100
TZOFFSETTO:+0200
END:DAYLIGHT
END:VTIMEZONE
END:VCALENDAR
