BEGIN:VCALENDAR
VERSION:2.0
PRODID:-//Plone.org//NONSGML plone.app.event//EN
X-WR-TIMEZONE:Europe/Berlin
BEGIN:VEVENT
SUMMARY:Giornata di cultura ambientale
DTSTART;TZID=Europe/Berlin;VALUE=DATE-TIME:20150429T090000
DTEND;TZID=Europe/Berlin;VALUE=DATE-TIME:20150429T130000
DTSTAMP;VALUE=DATE-TIME:20260423T091614Z
UID:6a250616e31b4562ab9aec240c2b5b5b@www.isprambiente.gov.it
CREATED;VALUE=DATE-TIME:20150415T150341Z
LAST-MODIFIED;VALUE=DATE-TIME:20230120T134232Z
LOCATION:Roma\, ISPRA - Via Vitaliano Brancati 48 - Sala Auditorium
URL:https://www.isprambiente.gov.it/it/archivio/eventi/anno-2015/aprile/gi
 ornata-di-cultura-ambientale
END:VEVENT
BEGIN:VTIMEZONE
TZID:Europe/Berlin
X-LIC-LOCATION:Europe/Berlin
BEGIN:DAYLIGHT
DTSTART;VALUE=DATE-TIME:20150329T030000
TZNAME:CEST
TZOFFSETFROM:+0100
TZOFFSETTO:+0200
END:DAYLIGHT
END:VTIMEZONE
END:VCALENDAR
