BEGIN:VCALENDAR
VERSION:2.0
PRODID:-//Plone.org//NONSGML plone.app.event//EN
X-WR-TIMEZONE:Europe/Berlin
BEGIN:VEVENT
SUMMARY:Il Modello Unico di Dichiarazione Ambientale 2015 (MUD)
DTSTART;TZID=Europe/Berlin;VALUE=DATE-TIME:20150416T093000
DTEND;TZID=Europe/Berlin;VALUE=DATE-TIME:20150416T160000
DTSTAMP;VALUE=DATE-TIME:20260423T091614Z
UID:76fe9a49e7734beeb9b2f484f6b7e7ba@www.isprambiente.gov.it
CREATED;VALUE=DATE-TIME:20150403T160515Z
DESCRIPTION: Seminario 
LAST-MODIFIED;VALUE=DATE-TIME:20230120T134232Z
LOCATION:Roma\, ISPRA - Sala Conferenze - Via V. Brancati 48
URL:https://www.isprambiente.gov.it/it/archivio/eventi/anno-2015/aprile/il
 -modello-unico-di-dichiarazione-ambientale-2015-mud
END:VEVENT
BEGIN:VTIMEZONE
TZID:Europe/Berlin
X-LIC-LOCATION:Europe/Berlin
BEGIN:DAYLIGHT
DTSTART;VALUE=DATE-TIME:20150329T030000
TZNAME:CEST
TZOFFSETFROM:+0100
TZOFFSETTO:+0200
END:DAYLIGHT
END:VTIMEZONE
END:VCALENDAR
