BEGIN:VCALENDAR
VERSION:2.0
PRODID:-//Plone.org//NONSGML plone.app.event//EN
X-WR-TIMEZONE:Europe/Berlin
BEGIN:VEVENT
SUMMARY:Valutazione dei costi ambientali e della risorsa. Direttiva Quadro
  Acque 2000/60/CE
DTSTART;TZID=Europe/Berlin;VALUE=DATE-TIME:20150416T090000
DTEND;TZID=Europe/Berlin;VALUE=DATE-TIME:20150416T173000
DTSTAMP;VALUE=DATE-TIME:20260423T025525Z
UID:f213543755044f56a2af8a7e2a29a2bb@www.isprambiente.gov.it
CREATED;VALUE=DATE-TIME:20150403T093540Z
LAST-MODIFIED;VALUE=DATE-TIME:20230120T134232Z
LOCATION:Roma\, Sala Auditorium - Via C. Colombo\, 44
URL:https://www.isprambiente.gov.it/it/archivio/eventi/anno-2015/aprile/va
 lutazione-dei-costi-ambientali-e-della-risorsa
END:VEVENT
BEGIN:VTIMEZONE
TZID:Europe/Berlin
X-LIC-LOCATION:Europe/Berlin
BEGIN:DAYLIGHT
DTSTART;VALUE=DATE-TIME:20150329T030000
TZNAME:CEST
TZOFFSETFROM:+0100
TZOFFSETTO:+0200
END:DAYLIGHT
END:VTIMEZONE
END:VCALENDAR
