BEGIN:VCALENDAR
VERSION:2.0
PRODID:-//Plone.org//NONSGML plone.app.event//EN
X-WR-TIMEZONE:Europe/Berlin
BEGIN:VEVENT
SUMMARY:La biodiversità negli ambienti marini remoti ed estremi in Sicili
 a
DTSTART;TZID=Europe/Berlin;VALUE=DATE-TIME:20151215T084500
DTEND;TZID=Europe/Berlin;VALUE=DATE-TIME:20151215T133000
DTSTAMP;VALUE=DATE-TIME:20260423T044414Z
UID:9976040d7bba4ba1b68b5a155d2e4d82@www.isprambiente.gov.it
CREATED;VALUE=DATE-TIME:20151126T150246Z
LAST-MODIFIED;VALUE=DATE-TIME:20230120T134243Z
LOCATION:Palermo - Palazzetto Mirto\, Via Lungarini\, 9
URL:https://www.isprambiente.gov.it/it/archivio/eventi/anno-2015/dicembre/
 la-biodiversita-negli-ambienti-marini-remoti-ed-estremi-in-sicilia
END:VEVENT
BEGIN:VTIMEZONE
TZID:Europe/Berlin
X-LIC-LOCATION:Europe/Berlin
BEGIN:STANDARD
DTSTART;VALUE=DATE-TIME:20151025T020000
TZNAME:CET
TZOFFSETFROM:+0200
TZOFFSETTO:+0100
END:STANDARD
END:VTIMEZONE
END:VCALENDAR
