BEGIN:VCALENDAR
VERSION:2.0
PRODID:-//Plone.org//NONSGML plone.app.event//EN
X-WR-TIMEZONE:Europe/Berlin
BEGIN:VEVENT
SUMMARY:Conferenza stampa di presentazione del Rapporto ISPRA Rifiuti Spec
 iali - Edizione 2015
DTSTART;TZID=Europe/Berlin;VALUE=DATE-TIME:20150728T100000
DTEND;TZID=Europe/Berlin;VALUE=DATE-TIME:20150728T130000
DTSTAMP;VALUE=DATE-TIME:20260423T091925Z
UID:53c2f7f72dc2444a9952e5ce881f4e55@www.isprambiente.gov.it
CREATED;VALUE=DATE-TIME:20150715T165306Z
LAST-MODIFIED;VALUE=DATE-TIME:20230120T134243Z
LOCATION:Roma\, Sala Stampa della Camera dei Deputati
URL:https://www.isprambiente.gov.it/it/archivio/eventi/anno-2015/luglio/co
 nferenza-stampa-di-presentazione-del-rapporto-rifiuti-speciali-edizione-20
 15
END:VEVENT
BEGIN:VTIMEZONE
TZID:Europe/Berlin
X-LIC-LOCATION:Europe/Berlin
BEGIN:DAYLIGHT
DTSTART;VALUE=DATE-TIME:20150329T030000
TZNAME:CEST
TZOFFSETFROM:+0100
TZOFFSETTO:+0200
END:DAYLIGHT
END:VTIMEZONE
END:VCALENDAR
