BEGIN:VCALENDAR
VERSION:2.0
PRODID:-//Plone.org//NONSGML plone.app.event//EN
X-WR-TIMEZONE:Europe/Berlin
BEGIN:VEVENT
SUMMARY:Presentazione dell’Annuario dei dati ambientali 2014-2015
DTSTART;TZID=Europe/Berlin;VALUE=DATE-TIME:20150729T090000
DTEND;TZID=Europe/Berlin;VALUE=DATE-TIME:20150729T133000
DTSTAMP;VALUE=DATE-TIME:20260423T062012Z
UID:fd829334a09d44f993d0d7660c3e3888@www.isprambiente.gov.it
CREATED;VALUE=DATE-TIME:20150714T162834Z
LAST-MODIFIED;VALUE=DATE-TIME:20230120T134243Z
LOCATION:Roma\, Auditorium MATTM - Via Capitan Bavastro\, 180
URL:https://www.isprambiente.gov.it/it/archivio/eventi/anno-2015/luglio/pr
 esentazione-dell2019annuario-dei-dati-ambientali-2014-2015
END:VEVENT
BEGIN:VTIMEZONE
TZID:Europe/Berlin
X-LIC-LOCATION:Europe/Berlin
BEGIN:DAYLIGHT
DTSTART;VALUE=DATE-TIME:20150329T030000
TZNAME:CEST
TZOFFSETFROM:+0100
TZOFFSETTO:+0200
END:DAYLIGHT
END:VTIMEZONE
END:VCALENDAR
