BEGIN:VCALENDAR
VERSION:2.0
PRODID:-//Plone.org//NONSGML plone.app.event//EN
X-WR-TIMEZONE:Europe/Berlin
BEGIN:VEVENT
SUMMARY:Presentazione Rapporto Rifiuti Speciali - Edizione 2015
DTSTART;TZID=Europe/Berlin;VALUE=DATE-TIME:20150727T000000
DTEND;TZID=Europe/Berlin;VALUE=DATE-TIME:20150727T000000
DTSTAMP;VALUE=DATE-TIME:20260423T091652Z
UID:2a80ae7d780946a38da4744056f712a6@www.isprambiente.gov.it
CREATED;VALUE=DATE-TIME:20150703T141255Z
LAST-MODIFIED;VALUE=DATE-TIME:20230120T134243Z
LOCATION:Roma\, Sede da definire
URL:https://www.isprambiente.gov.it/it/archivio/eventi/anno-2015/luglio/pr
 esentazione-rapporto-rifiuti-speciali-edizione-2015
END:VEVENT
BEGIN:VTIMEZONE
TZID:Europe/Berlin
X-LIC-LOCATION:Europe/Berlin
BEGIN:DAYLIGHT
DTSTART;VALUE=DATE-TIME:20150329T030000
TZNAME:CEST
TZOFFSETFROM:+0100
TZOFFSETTO:+0200
END:DAYLIGHT
END:VTIMEZONE
END:VCALENDAR
