BEGIN:VCALENDAR
VERSION:2.0
PRODID:-//Plone.org//NONSGML plone.app.event//EN
X-WR-TIMEZONE:Europe/Berlin
BEGIN:VEVENT
SUMMARY:Workshop nazionale “I Servizi per l’Idrologia Operativa tra St
 ato\, Regioni e Sistema Nazionale per la Protezione dell’Ambiente”
DTSTART;TZID=Europe/Berlin;VALUE=DATE-TIME:20150709T100000
DTEND;TZID=Europe/Berlin;VALUE=DATE-TIME:20150710T163000
DTSTAMP;VALUE=DATE-TIME:20260423T025857Z
UID:e79e0a871e264fa6aee0232b3fbf64dc@www.isprambiente.gov.it
CREATED;VALUE=DATE-TIME:20150625T092806Z
LAST-MODIFIED;VALUE=DATE-TIME:20230120T134233Z
LOCATION:Roma\, Unicef - Sala Conferenze - Via Palestro 68
URL:https://www.isprambiente.gov.it/it/archivio/eventi/anno-2015/luglio/wo
 rkshop-nazionale-201ci-servizi-per-l2019idrologia-operativa-tra-stato-regi
 oni-e-sistema-nazionale-per-la-protezione-dell2019ambiente201d
END:VEVENT
BEGIN:VTIMEZONE
TZID:Europe/Berlin
X-LIC-LOCATION:Europe/Berlin
BEGIN:DAYLIGHT
DTSTART;VALUE=DATE-TIME:20150329T030000
TZNAME:CEST
TZOFFSETFROM:+0100
TZOFFSETTO:+0200
END:DAYLIGHT
END:VTIMEZONE
END:VCALENDAR
