BEGIN:VCALENDAR
VERSION:2.0
PRODID:-//Plone.org//NONSGML plone.app.event//EN
X-WR-TIMEZONE:Europe/Berlin
BEGIN:VEVENT
SUMMARY:Presentazione del libro fotografico Colori Profondi del Mediterran
 eo
DTSTART;TZID=Europe/Berlin;VALUE=DATE-TIME:20151126T180000
DTEND;TZID=Europe/Berlin;VALUE=DATE-TIME:20151126T193000
DTSTAMP;VALUE=DATE-TIME:20260423T035751Z
UID:535ffef458144f839e372556ff260f08@www.isprambiente.gov.it
CREATED;VALUE=DATE-TIME:20151118T083941Z
LAST-MODIFIED;VALUE=DATE-TIME:20230120T134243Z
LOCATION:Roma
URL:https://www.isprambiente.gov.it/it/archivio/eventi/anno-2015/novembre/
 presentazione-del-libro-fotografico-colori-profondi-del-mediterraneo
END:VEVENT
BEGIN:VTIMEZONE
TZID:Europe/Berlin
X-LIC-LOCATION:Europe/Berlin
BEGIN:STANDARD
DTSTART;VALUE=DATE-TIME:20151025T020000
TZNAME:CET
TZOFFSETFROM:+0200
TZOFFSETTO:+0100
END:STANDARD
END:VTIMEZONE
END:VCALENDAR
