BEGIN:VCALENDAR
VERSION:2.0
PRODID:-//Plone.org//NONSGML plone.app.event//EN
X-WR-TIMEZONE:Europe/Berlin
BEGIN:VEVENT
SUMMARY:Stato ecologico dei fiumi ai sensi della Direttiva 2000/60/CE: val
 utazione della qualità del dato
DTSTART;TZID=Europe/Berlin;VALUE=DATE-TIME:20151130T100000
DTEND;TZID=Europe/Berlin;VALUE=DATE-TIME:20151130T163000
DTSTAMP;VALUE=DATE-TIME:20260423T063239Z
UID:bcf635391a2f4d219203f1fec2dd9fd2@www.isprambiente.gov.it
CREATED;VALUE=DATE-TIME:20151110T154329Z
LAST-MODIFIED;VALUE=DATE-TIME:20230120T134243Z
LOCATION:Roma\, ISPRA - via V. Brancati\, 48
URL:https://www.isprambiente.gov.it/it/archivio/eventi/anno-2015/novembre/
 stato-ecologico-dei-fiumi-ai-sensi-della-direttiva-2000-60-ce-valutazione-
 della-qualita-del-dato
END:VEVENT
BEGIN:VTIMEZONE
TZID:Europe/Berlin
X-LIC-LOCATION:Europe/Berlin
BEGIN:STANDARD
DTSTART;VALUE=DATE-TIME:20151025T020000
TZNAME:CET
TZOFFSETFROM:+0200
TZOFFSETTO:+0100
END:STANDARD
END:VTIMEZONE
END:VCALENDAR
