BEGIN:VCALENDAR
VERSION:2.0
PRODID:-//Plone.org//NONSGML plone.app.event//EN
X-WR-TIMEZONE:Europe/Berlin
BEGIN:VEVENT
SUMMARY:Erosione costiera e cambiamenti climatici: strategie di adattament
 o\, gestione e sostenibilità ambientale
DTSTART;TZID=Europe/Berlin;VALUE=DATE-TIME:20151103T093000
DTEND;TZID=Europe/Berlin;VALUE=DATE-TIME:20151103T163000
DTSTAMP;VALUE=DATE-TIME:20260423T101926Z
UID:eb82e66f654746d391ac6469beae8fb4@www.isprambiente.gov.it
CREATED;VALUE=DATE-TIME:20151007T092226Z
LAST-MODIFIED;VALUE=DATE-TIME:20230120T134243Z
LOCATION:Roma - Roma Eventi - Fontana di Trevi\, piazza della Pilotta\, 4
URL:https://www.isprambiente.gov.it/it/archivio/eventi/anno-2015/novembre/
 workshop-erosione-costiera-e-cambiamenti-climatici-strategie-di-adattament
 o-gestione-e-sostenibilita-ambientale
END:VEVENT
BEGIN:VTIMEZONE
TZID:Europe/Berlin
X-LIC-LOCATION:Europe/Berlin
BEGIN:STANDARD
DTSTART;VALUE=DATE-TIME:20151025T020000
TZNAME:CET
TZOFFSETFROM:+0200
TZOFFSETTO:+0100
END:STANDARD
END:VTIMEZONE
END:VCALENDAR
