BEGIN:VCALENDAR
VERSION:2.0
PRODID:-//Plone.org//NONSGML plone.app.event//EN
X-WR-TIMEZONE:Europe/Berlin
BEGIN:VEVENT
SUMMARY:44° Congresso della Società Italiana di Biologia Marina. Roma\, 
 14-16 maggio
DTSTART;TZID=Europe/Berlin;VALUE=DATE-TIME:20130514T103000
DTEND;TZID=Europe/Berlin;VALUE=DATE-TIME:20130516T133000
DTSTAMP;VALUE=DATE-TIME:20260421T191903Z
UID:c0d05af455d44342bf0ad9fb779b4b98@www.isprambiente.gov.it
CREATED;VALUE=DATE-TIME:20130206T105224Z
DESCRIPTION:Congresso
LAST-MODIFIED;VALUE=DATE-TIME:20230120T134055Z
LOCATION:Roma
URL:https://www.isprambiente.gov.it/it/archivio/notizie-e-novita-normative
 /notizie-ispra/2013/05/44deg-congresso-della-societa-di-biologia-marina
END:VEVENT
BEGIN:VTIMEZONE
TZID:Europe/Berlin
X-LIC-LOCATION:Europe/Berlin
BEGIN:DAYLIGHT
DTSTART;VALUE=DATE-TIME:20130331T030000
TZNAME:CEST
TZOFFSETFROM:+0100
TZOFFSETTO:+0200
END:DAYLIGHT
END:VTIMEZONE
END:VCALENDAR
