BEGIN:VCALENDAR
VERSION:2.0
PRODID:-//Plone.org//NONSGML plone.app.event//EN
X-WR-TIMEZONE:Europe/Berlin
BEGIN:VEVENT
SUMMARY:HUSH project Harmonization of Urban noise reduction Strategies for
  Homogeneous action plans 
DTSTART;TZID=Europe/Berlin;VALUE=DATE-TIME:20130507T090000
DTEND;TZID=Europe/Berlin;VALUE=DATE-TIME:20130507T170000
DTSTAMP;VALUE=DATE-TIME:20260421T205708Z
UID:fe8eec3dcb5e4160a5dd05933e111e23@www.isprambiente.gov.it
CREATED;VALUE=DATE-TIME:20130422T112502Z
DESCRIPTION:Convegno
LAST-MODIFIED;VALUE=DATE-TIME:20230120T134055Z
LOCATION:Firenze
URL:https://www.isprambiente.gov.it/it/archivio/notizie-e-novita-normative
 /notizie-ispra/2013/05/hush-project-harmonization-of-urban-noise-reduction
 -strategies-for-homogeneous-action-plans
END:VEVENT
BEGIN:VTIMEZONE
TZID:Europe/Berlin
X-LIC-LOCATION:Europe/Berlin
BEGIN:DAYLIGHT
DTSTART;VALUE=DATE-TIME:20130331T030000
TZNAME:CEST
TZOFFSETFROM:+0100
TZOFFSETTO:+0200
END:DAYLIGHT
END:VTIMEZONE
END:VCALENDAR
