BEGIN:VCALENDAR
VERSION:2.0
PRODID:-//Plone.org//NONSGML plone.app.event//EN
X-WR-TIMEZONE:Europe/Berlin
BEGIN:VEVENT
SUMMARY:III Convegno Nazionale del Gruppo Nazionale di Oceanografia Operat
 iva 
DTSTART;TZID=Europe/Berlin;VALUE=DATE-TIME:20130603T173000
DTEND;TZID=Europe/Berlin;VALUE=DATE-TIME:20130605T184500
DTSTAMP;VALUE=DATE-TIME:20260422T020618Z
UID:f2231f5aa99f420a94437435fe3184cf@www.isprambiente.gov.it
CREATED;VALUE=DATE-TIME:20130510T150056Z
DESCRIPTION:Convegno
LAST-MODIFIED;VALUE=DATE-TIME:20230120T134055Z
LOCATION:Oristano
URL:https://www.isprambiente.gov.it/it/archivio/notizie-e-novita-normative
 /notizie-ispra/2013/05/iii-convegno-nazionale-del-gruppo-nazionale-di-ocea
 nografia-operativa
END:VEVENT
BEGIN:VTIMEZONE
TZID:Europe/Berlin
X-LIC-LOCATION:Europe/Berlin
BEGIN:DAYLIGHT
DTSTART;VALUE=DATE-TIME:20130331T030000
TZNAME:CEST
TZOFFSETFROM:+0100
TZOFFSETTO:+0200
END:DAYLIGHT
END:VTIMEZONE
END:VCALENDAR
