BEGIN:VCALENDAR
VERSION:2.0
PRODID:-//Plone.org//NONSGML plone.app.event//EN
X-WR-TIMEZONE:Europe/Berlin
BEGIN:VEVENT
SUMMARY:Interventi di miglioramento ambientale a fini faunistici e multifu
 nzionalità delle aziende agricole. Inquadramento della normativa nella Re
 gione Toscana
DTSTART;TZID=Europe/Berlin;VALUE=DATE-TIME:20130515T093000
DTEND;TZID=Europe/Berlin;VALUE=DATE-TIME:20130515T130000
DTSTAMP;VALUE=DATE-TIME:20260421T205722Z
UID:38c408af0f3e4b3f9e738fff04934f31@www.isprambiente.gov.it
CREATED;VALUE=DATE-TIME:20130509T110612Z
DESCRIPTION:Convegno
LAST-MODIFIED;VALUE=DATE-TIME:20230120T134055Z
LOCATION:Vaglia (FI)
URL:https://www.isprambiente.gov.it/it/archivio/notizie-e-novita-normative
 /notizie-ispra/2013/05/interventi-di-miglioramento-ambientale-a-fini-fauni
 stici-e-multifunzionalita-delle-aziende-agricole.-inquadramento-della-norm
 ativa-nella-regione-toscana
END:VEVENT
BEGIN:VTIMEZONE
TZID:Europe/Berlin
X-LIC-LOCATION:Europe/Berlin
BEGIN:DAYLIGHT
DTSTART;VALUE=DATE-TIME:20130331T030000
TZNAME:CEST
TZOFFSETFROM:+0100
TZOFFSETTO:+0200
END:DAYLIGHT
END:VTIMEZONE
END:VCALENDAR
