BEGIN:VCALENDAR
VERSION:2.0
PRODID:-//Plone.org//NONSGML plone.app.event//EN
X-WR-TIMEZONE:Europe/Berlin
BEGIN:VEVENT
SUMMARY:Strumenti per la realizzazione delle Reti ecologiche: dalla pianif
 icazione all’attuazione
DTSTART;TZID=Europe/Berlin;VALUE=DATE-TIME:20130515T083000
DTEND;TZID=Europe/Berlin;VALUE=DATE-TIME:20130515T163000
DTSTAMP;VALUE=DATE-TIME:20260421T223747Z
UID:a1843c9f30e9406f9d5c564b0a948fc2@www.isprambiente.gov.it
CREATED;VALUE=DATE-TIME:20130509T125154Z
DESCRIPTION:Convegno
LAST-MODIFIED;VALUE=DATE-TIME:20230120T134055Z
LOCATION:Vercelli
URL:https://www.isprambiente.gov.it/it/archivio/notizie-e-novita-normative
 /notizie-ispra/2013/05/strumenti-per-la-realizzazione-delle-reti-ecologich
 e-dalla-pianificazione-all2019attuazione
END:VEVENT
BEGIN:VTIMEZONE
TZID:Europe/Berlin
X-LIC-LOCATION:Europe/Berlin
BEGIN:DAYLIGHT
DTSTART;VALUE=DATE-TIME:20130331T030000
TZNAME:CEST
TZOFFSETFROM:+0100
TZOFFSETTO:+0200
END:DAYLIGHT
END:VTIMEZONE
END:VCALENDAR
