BEGIN:VCALENDAR
VERSION:2.0
PRODID:-//Plone.org//NONSGML plone.app.event//EN
X-WR-TIMEZONE:Europe/Berlin
BEGIN:VEVENT
SUMMARY:Un'escursione geologica a Rieti e nella Piana reatina.  Aspetti ge
 ologici e idrogeologici di un territorio ricco di storia e cultura
DTSTART;TZID=Europe/Berlin;VALUE=DATE-TIME:20130525T094500
DTEND;TZID=Europe/Berlin;VALUE=DATE-TIME:20130525T183000
DTSTAMP;VALUE=DATE-TIME:20260421T205722Z
UID:41f2e00ed3f54c378820111ff91aa824@www.isprambiente.gov.it
CREATED;VALUE=DATE-TIME:20130327T161832Z
DESCRIPTION:G&T day
LAST-MODIFIED;VALUE=DATE-TIME:20230120T134055Z
LOCATION:Rieti
URL:https://www.isprambiente.gov.it/it/archivio/notizie-e-novita-normative
 /notizie-ispra/2013/05/unescursione-geologica-a-rieti-e-nella-piana-reatin
 a.-aspetti-geologici-e-idrogeologici-di-un-territorio-ricco-di-storia-e-cu
 ltura
END:VEVENT
BEGIN:VTIMEZONE
TZID:Europe/Berlin
X-LIC-LOCATION:Europe/Berlin
BEGIN:DAYLIGHT
DTSTART;VALUE=DATE-TIME:20130331T030000
TZNAME:CEST
TZOFFSETFROM:+0100
TZOFFSETTO:+0200
END:DAYLIGHT
END:VTIMEZONE
END:VCALENDAR
