BEGIN:VCALENDAR
VERSION:2.0
PRODID:-//Plone.org//NONSGML plone.app.event//EN
X-WR-TIMEZONE:Europe/Berlin
BEGIN:VEVENT
SUMMARY:Governare il territorio nel terzo millennio 
DTSTART;TZID=Europe/Berlin;VALUE=DATE-TIME:20150313T090000
DTEND;TZID=Europe/Berlin;VALUE=DATE-TIME:20150313T130000
DTSTAMP;VALUE=DATE-TIME:20260423T012049Z
UID:5a78176bcd29409590adb08338b44a3a@www.isprambiente.gov.it
CREATED;VALUE=DATE-TIME:20150226T091113Z
LAST-MODIFIED;VALUE=DATE-TIME:20230120T134033Z
LOCATION:Bologna
URL:https://www.isprambiente.gov.it/it/archivio/notizie-e-novita-normative
 /notizie-ispra/2015/03/governare-il-territorio-nel-terzo-millennio
END:VEVENT
BEGIN:VTIMEZONE
TZID:Europe/Berlin
X-LIC-LOCATION:Europe/Berlin
BEGIN:STANDARD
DTSTART;VALUE=DATE-TIME:20141026T020000
TZNAME:CET
TZOFFSETFROM:+0200
TZOFFSETTO:+0100
END:STANDARD
END:VTIMEZONE
END:VCALENDAR
