BEGIN:VCALENDAR
VERSION:2.0
PRODID:-//Plone.org//NONSGML plone.app.event//EN
X-WR-TIMEZONE:Europe/Berlin
BEGIN:VEVENT
SUMMARY:Idrogeologia e Territorio: le migliori pratiche di gestione\, tute
 la e prevenzione
DTSTART;TZID=Europe/Berlin;VALUE=DATE-TIME:20150331T103000
DTEND;TZID=Europe/Berlin;VALUE=DATE-TIME:20150331T133000
DTSTAMP;VALUE=DATE-TIME:20260423T012838Z
UID:e91a70a4e9e4443482740c092600475d@www.isprambiente.gov.it
CREATED;VALUE=DATE-TIME:20150318T094217Z
LAST-MODIFIED;VALUE=DATE-TIME:20230120T134033Z
LOCATION:Roma
URL:https://www.isprambiente.gov.it/it/archivio/notizie-e-novita-normative
 /notizie-ispra/2015/03/idrogeologia-e-territorio-le-migliori-pratiche-di-g
 estione-tutela-e-prevenzione
END:VEVENT
BEGIN:VTIMEZONE
TZID:Europe/Berlin
X-LIC-LOCATION:Europe/Berlin
BEGIN:DAYLIGHT
DTSTART;VALUE=DATE-TIME:20150329T030000
TZNAME:CEST
TZOFFSETFROM:+0100
TZOFFSETTO:+0200
END:DAYLIGHT
END:VTIMEZONE
END:VCALENDAR
