BEGIN:VCALENDAR
VERSION:2.0
PRODID:-//Plone.org//NONSGML plone.app.event//EN
X-WR-TIMEZONE:Europe/Berlin
BEGIN:VEVENT
SUMMARY:Nexus: cibo\, acqua\, energia nello sviluppo sostenibile
DTSTART;TZID=Europe/Berlin;VALUE=DATE-TIME:20150305T143000
DTEND;TZID=Europe/Berlin;VALUE=DATE-TIME:20150305T173000
DTSTAMP;VALUE=DATE-TIME:20260423T012245Z
UID:d49cc6c3cce44efcba59e16929dba934@www.isprambiente.gov.it
CREATED;VALUE=DATE-TIME:20150227T084429Z
LAST-MODIFIED;VALUE=DATE-TIME:20230120T134033Z
LOCATION:Roma\, Ministero degli Affari Esteri e della Cooperazione Interna
 zionale - Sala Aldo Moro
URL:https://www.isprambiente.gov.it/it/archivio/notizie-e-novita-normative
 /notizie-ispra/2015/03/nexus-cibo-acqua-energia-nello-sviluppo-sostenibile
END:VEVENT
BEGIN:VTIMEZONE
TZID:Europe/Berlin
X-LIC-LOCATION:Europe/Berlin
BEGIN:STANDARD
DTSTART;VALUE=DATE-TIME:20141026T020000
TZNAME:CET
TZOFFSETFROM:+0200
TZOFFSETTO:+0100
END:STANDARD
END:VTIMEZONE
END:VCALENDAR
