BEGIN:VCALENDAR
VERSION:2.0
PRODID:-//Plone.org//NONSGML plone.app.event//EN
X-WR-TIMEZONE:Europe/Berlin
BEGIN:VEVENT
SUMMARY:Stati Generali Acque Pulite
DTSTART;TZID=Europe/Berlin;VALUE=DATE-TIME:20150324T093000
DTEND;TZID=Europe/Berlin;VALUE=DATE-TIME:20150324T160000
DTSTAMP;VALUE=DATE-TIME:20260423T012542Z
UID:2b710c7bbf6f4232ab52a165f0be8558@www.isprambiente.gov.it
CREATED;VALUE=DATE-TIME:20150316T104242Z
LAST-MODIFIED;VALUE=DATE-TIME:20230120T134033Z
LOCATION:Roma
URL:https://www.isprambiente.gov.it/it/archivio/notizie-e-novita-normative
 /notizie-ispra/2015/03/stati-generali-acque-pulite
END:VEVENT
BEGIN:VTIMEZONE
TZID:Europe/Berlin
X-LIC-LOCATION:Europe/Berlin
BEGIN:STANDARD
DTSTART;VALUE=DATE-TIME:20141026T020000
TZNAME:CET
TZOFFSETFROM:+0200
TZOFFSETTO:+0100
END:STANDARD
END:VTIMEZONE
END:VCALENDAR
