BEGIN:VCALENDAR
VERSION:2.0
PRODID:-//Plone.org//NONSGML plone.app.event//EN
X-WR-TIMEZONE:Europe/Berlin
BEGIN:VEVENT
SUMMARY:Terza riunione dell'Intergovernamental Working Group on the follow
 -up of Rio+20 della UNCCD e Intervento del Segretario Esecutivo Monique Ba
 rbut
DTSTART;TZID=Europe/Berlin;VALUE=DATE-TIME:20150318T143000
DTEND;TZID=Europe/Berlin;VALUE=DATE-TIME:20150318T163000
DTSTAMP;VALUE=DATE-TIME:20260423T012331Z
UID:1f8d7ebee0664e99adf4a4e35a9c8292@www.isprambiente.gov.it
CREATED;VALUE=DATE-TIME:20150306T115620Z
LAST-MODIFIED;VALUE=DATE-TIME:20230120T134033Z
LOCATION:Roma
URL:https://www.isprambiente.gov.it/it/archivio/notizie-e-novita-normative
 /notizie-ispra/2015/03/terza-riunione-dellintergovernamental-working-group
 -on-the-follow-up-of-rio-20-della-unccd-e-intervento-del-segretario-esecut
 ivo-monique-barbut
END:VEVENT
BEGIN:VTIMEZONE
TZID:Europe/Berlin
X-LIC-LOCATION:Europe/Berlin
BEGIN:STANDARD
DTSTART;VALUE=DATE-TIME:20141026T020000
TZNAME:CET
TZOFFSETFROM:+0200
TZOFFSETTO:+0100
END:STANDARD
END:VTIMEZONE
END:VCALENDAR
