BEGIN:VCALENDAR
VERSION:2.0
PRODID:-//Plone.org//NONSGML plone.app.event//EN
X-WR-TIMEZONE:Europe/Berlin
BEGIN:VEVENT
SUMMARY:Hanami 2015: fioritura del sakura\, il ciliegio giapponese da fior
 e
DTSTART;TZID=Europe/Berlin;VALUE=DATE-TIME:20150409T120000
DTEND;TZID=Europe/Berlin;VALUE=DATE-TIME:20150409T140000
DTSTAMP;VALUE=DATE-TIME:20260422T185338Z
UID:2d8adff61f5d4cb596b111c85b9b2ff5@www.isprambiente.gov.it
CREATED;VALUE=DATE-TIME:20150407T153328Z
DESCRIPTION:Sotto gli alberi di ciliegio\, nessuno è straniero (Issa\, 17
 63-1828).
LAST-MODIFIED;VALUE=DATE-TIME:20230120T134033Z
LOCATION:Roma\, Passeggiata del Giappone - Parco centrale del lago dell'EU
 R
URL:https://www.isprambiente.gov.it/it/archivio/notizie-e-novita-normative
 /notizie-ispra/2015/04/hanami-2015-fioritura-del-sakura-il-ciliegio-giappo
 nese-da-fiore
END:VEVENT
BEGIN:VTIMEZONE
TZID:Europe/Berlin
X-LIC-LOCATION:Europe/Berlin
BEGIN:DAYLIGHT
DTSTART;VALUE=DATE-TIME:20150329T030000
TZNAME:CEST
TZOFFSETFROM:+0100
TZOFFSETTO:+0200
END:DAYLIGHT
END:VTIMEZONE
END:VCALENDAR
