BEGIN:VCALENDAR
VERSION:2.0
PRODID:-//Plone.org//NONSGML plone.app.event//EN
X-WR-TIMEZONE:Europe/Berlin
BEGIN:VEVENT
SUMMARY:Il clima cambia le città: strategie di adattamento e mitigazione 
 nella pianificazione urbanistica
DTSTART;TZID=Europe/Berlin;VALUE=DATE-TIME:20150413T110000
DTEND;TZID=Europe/Berlin;VALUE=DATE-TIME:20150413T130000
DTSTAMP;VALUE=DATE-TIME:20260422T220329Z
UID:afd751c1db824a3ab77737a20d86e10a@www.isprambiente.gov.it
CREATED;VALUE=DATE-TIME:20150330T133232Z
LAST-MODIFIED;VALUE=DATE-TIME:20230120T134033Z
LOCATION:Roma
URL:https://www.isprambiente.gov.it/it/archivio/notizie-e-novita-normative
 /notizie-ispra/2015/04/il-clima-cambia-le-citta-strategie-di-adattamento-e
 -mitigazione-nella-pianificazione-urbanistica
END:VEVENT
BEGIN:VTIMEZONE
TZID:Europe/Berlin
X-LIC-LOCATION:Europe/Berlin
BEGIN:DAYLIGHT
DTSTART;VALUE=DATE-TIME:20150329T030000
TZNAME:CEST
TZOFFSETFROM:+0100
TZOFFSETTO:+0200
END:DAYLIGHT
END:VTIMEZONE
END:VCALENDAR
