BEGIN:VCALENDAR
VERSION:2.0
PRODID:-//Plone.org//NONSGML plone.app.event//EN
X-WR-TIMEZONE:Europe/Berlin
BEGIN:VEVENT
SUMMARY:Il valore economico della biodiversità e degli ecosistemi
DTSTART;TZID=Europe/Berlin;VALUE=DATE-TIME:20150423T093000
DTEND;TZID=Europe/Berlin;VALUE=DATE-TIME:20150423T163000
DTSTAMP;VALUE=DATE-TIME:20260422T220251Z
UID:b9cf1a5437b847448ff33df7cf5fb2de@www.isprambiente.gov.it
CREATED;VALUE=DATE-TIME:20150422T110432Z
LAST-MODIFIED;VALUE=DATE-TIME:20230120T134033Z
LOCATION:Catania
URL:https://www.isprambiente.gov.it/it/archivio/notizie-e-novita-normative
 /notizie-ispra/2015/04/il-valore-economico-della-biodiversita-e-degli-ecos
 istemi
END:VEVENT
BEGIN:VTIMEZONE
TZID:Europe/Berlin
X-LIC-LOCATION:Europe/Berlin
BEGIN:DAYLIGHT
DTSTART;VALUE=DATE-TIME:20150329T030000
TZNAME:CEST
TZOFFSETFROM:+0100
TZOFFSETTO:+0200
END:DAYLIGHT
END:VTIMEZONE
END:VCALENDAR
