BEGIN:VCALENDAR
VERSION:2.0
PRODID:-//Plone.org//NONSGML plone.app.event//EN
X-WR-TIMEZONE:Europe/Berlin
BEGIN:VEVENT
SUMMARY:Piano di Azione Nazionale per l’uso sostenibile dei prodotti fit
 osanitari: coordinamento\, ricerca e innovazione 
DTSTART;TZID=Europe/Berlin;VALUE=DATE-TIME:20150414T090000
DTEND;TZID=Europe/Berlin;VALUE=DATE-TIME:20150415T173000
DTSTAMP;VALUE=DATE-TIME:20260422T232454Z
UID:c7e44ed38242438ba0ebdde80cd64459@www.isprambiente.gov.it
CREATED;VALUE=DATE-TIME:20150402T100750Z
LAST-MODIFIED;VALUE=DATE-TIME:20230120T134033Z
LOCATION:Roma
URL:https://www.isprambiente.gov.it/it/archivio/notizie-e-novita-normative
 /notizie-ispra/2015/04/piano-di-azione-nazionale-per-l2019uso-sostenibile-
 dei-prodotti-fitosanitari-coordinamento-ricerca-e-innovazione
END:VEVENT
BEGIN:VTIMEZONE
TZID:Europe/Berlin
X-LIC-LOCATION:Europe/Berlin
BEGIN:DAYLIGHT
DTSTART;VALUE=DATE-TIME:20150329T030000
TZNAME:CEST
TZOFFSETFROM:+0100
TZOFFSETTO:+0200
END:DAYLIGHT
END:VTIMEZONE
END:VCALENDAR
