BEGIN:VCALENDAR
VERSION:2.0
PRODID:-//Plone.org//NONSGML plone.app.event//EN
X-WR-TIMEZONE:Europe/Berlin
BEGIN:VEVENT
SUMMARY:Piante esotiche invasive: dalla prevenzione alla gestione
DTSTART;TZID=Europe/Berlin;VALUE=DATE-TIME:20150414T083000
DTEND;TZID=Europe/Berlin;VALUE=DATE-TIME:20150414T163000
DTSTAMP;VALUE=DATE-TIME:20260422T232228Z
UID:14a27d07ca744d6d9bac847918d5cf2c@www.isprambiente.gov.it
CREATED;VALUE=DATE-TIME:20150409T113144Z
LAST-MODIFIED;VALUE=DATE-TIME:20230120T134033Z
LOCATION:Torino
URL:https://www.isprambiente.gov.it/it/archivio/notizie-e-novita-normative
 /notizie-ispra/2015/04/piante-esotiche-invasive-dalla-prevenzione-alla-ges
 tione
END:VEVENT
BEGIN:VTIMEZONE
TZID:Europe/Berlin
X-LIC-LOCATION:Europe/Berlin
BEGIN:DAYLIGHT
DTSTART;VALUE=DATE-TIME:20150329T030000
TZNAME:CEST
TZOFFSETFROM:+0100
TZOFFSETTO:+0200
END:DAYLIGHT
END:VTIMEZONE
END:VCALENDAR
