BEGIN:VCALENDAR
VERSION:2.0
PRODID:-//Plone.org//NONSGML plone.app.event//EN
X-WR-TIMEZONE:Europe/Berlin
BEGIN:VEVENT
SUMMARY:Presentazione delle nuove linee guida per la gestione delle fiorit
 ure di ostreopsis ovata e di cianobatteri nelle acque di balneazione 
DTSTART;TZID=Europe/Berlin;VALUE=DATE-TIME:20150420T090000
DTEND;TZID=Europe/Berlin;VALUE=DATE-TIME:20150421T170000
DTSTAMP;VALUE=DATE-TIME:20260422T232513Z
UID:4e9ef74bd2864c7b89f0c8c08e5d4895@www.isprambiente.gov.it
CREATED;VALUE=DATE-TIME:20150326T121609Z
LAST-MODIFIED;VALUE=DATE-TIME:20230120T134033Z
LOCATION:Roma
URL:https://www.isprambiente.gov.it/it/archivio/notizie-e-novita-normative
 /notizie-ispra/2015/04/presentazione-delle-nuove-linee-guida-per-la-gestio
 ne-delle-fioriture-di-ostreopsis-ovata-e-di-cianobatteri-nelle-acque-di-ba
 lneazione
END:VEVENT
BEGIN:VTIMEZONE
TZID:Europe/Berlin
X-LIC-LOCATION:Europe/Berlin
BEGIN:DAYLIGHT
DTSTART;VALUE=DATE-TIME:20150329T030000
TZNAME:CEST
TZOFFSETFROM:+0100
TZOFFSETTO:+0200
END:DAYLIGHT
END:VTIMEZONE
END:VCALENDAR
