BEGIN:VCALENDAR
VERSION:2.0
PRODID:-//Plone.org//NONSGML plone.app.event//EN
X-WR-TIMEZONE:Europe/Berlin
BEGIN:VEVENT
SUMMARY:Seminario di studi storico-cartografici: Dalla mappa al GIS
DTSTART;TZID=Europe/Berlin;VALUE=DATE-TIME:20150409T150000
DTEND;TZID=Europe/Berlin;VALUE=DATE-TIME:20150410T170000
DTSTAMP;VALUE=DATE-TIME:20260422T220329Z
UID:43925b1c6ea046fd9af811fb2c972ba5@www.isprambiente.gov.it
CREATED;VALUE=DATE-TIME:20150401T155150Z
LAST-MODIFIED;VALUE=DATE-TIME:20230120T134033Z
LOCATION:Roma\, Università degli studi Roma Tre - Sala del Consiglio del 
 Dipartimento di Studi Umanistici
URL:https://www.isprambiente.gov.it/it/archivio/notizie-e-novita-normative
 /notizie-ispra/2015/04/seminario-di-studi-storico-cartografici-dalla-mappa
 -al-gis-1
END:VEVENT
BEGIN:VTIMEZONE
TZID:Europe/Berlin
X-LIC-LOCATION:Europe/Berlin
BEGIN:DAYLIGHT
DTSTART;VALUE=DATE-TIME:20150329T030000
TZNAME:CEST
TZOFFSETFROM:+0100
TZOFFSETTO:+0200
END:DAYLIGHT
END:VTIMEZONE
END:VCALENDAR
