BEGIN:VCALENDAR
VERSION:2.0
PRODID:-//Plone.org//NONSGML plone.app.event//EN
X-WR-TIMEZONE:Europe/Berlin
BEGIN:VEVENT
SUMMARY:Stato\, prospettive e fabbisogni della ricerca italiana in zootecn
 ia nel contesto dei cambiamenti climatici
DTSTART;TZID=Europe/Berlin;VALUE=DATE-TIME:20150422T143000
DTEND;TZID=Europe/Berlin;VALUE=DATE-TIME:20150422T170000
DTSTAMP;VALUE=DATE-TIME:20260422T232452Z
UID:28ca468c33d2475996b0a7547765f3bd@www.isprambiente.gov.it
CREATED;VALUE=DATE-TIME:20150421T104644Z
LAST-MODIFIED;VALUE=DATE-TIME:20230120T134033Z
LOCATION:Firenze
URL:https://www.isprambiente.gov.it/it/archivio/notizie-e-novita-normative
 /notizie-ispra/2015/04/stato-prospettive-e-fabbisogni-della-ricerca-italia
 na-in-zootecnia-nel-contesto-dei-cambiamenti-climatici
END:VEVENT
BEGIN:VTIMEZONE
TZID:Europe/Berlin
X-LIC-LOCATION:Europe/Berlin
BEGIN:DAYLIGHT
DTSTART;VALUE=DATE-TIME:20150329T030000
TZNAME:CEST
TZOFFSETFROM:+0100
TZOFFSETTO:+0200
END:DAYLIGHT
END:VTIMEZONE
END:VCALENDAR
