BEGIN:VCALENDAR
VERSION:2.0
PRODID:-//Plone.org//NONSGML plone.app.event//EN
X-WR-TIMEZONE:Europe/Berlin
BEGIN:VEVENT
SUMMARY:Un occhio esperto nel sottosuolo della Pianura Padana
DTSTART;TZID=Europe/Berlin;VALUE=DATE-TIME:20150423T093000
DTEND;TZID=Europe/Berlin;VALUE=DATE-TIME:20150423T170000
DTSTAMP;VALUE=DATE-TIME:20260422T220250Z
UID:fcba4e11136444d6a649a249aadbdbd6@www.isprambiente.gov.it
CREATED;VALUE=DATE-TIME:20150409T170558Z
LAST-MODIFIED;VALUE=DATE-TIME:20230120T134033Z
LOCATION:Milano
URL:https://www.isprambiente.gov.it/it/archivio/notizie-e-novita-normative
 /notizie-ispra/2015/04/unocchio-esperto-nel-sottosuolo-della-pianura-padan
 a
END:VEVENT
BEGIN:VTIMEZONE
TZID:Europe/Berlin
X-LIC-LOCATION:Europe/Berlin
BEGIN:DAYLIGHT
DTSTART;VALUE=DATE-TIME:20150329T030000
TZNAME:CEST
TZOFFSETFROM:+0100
TZOFFSETTO:+0200
END:DAYLIGHT
END:VTIMEZONE
END:VCALENDAR
