BEGIN:VCALENDAR
VERSION:2.0
PRODID:-//Plone.org//NONSGML plone.app.event//EN
X-WR-TIMEZONE:Europe/Berlin
BEGIN:VEVENT
SUMMARY:Consumo di suolo e dissesto idrogeologico
DTSTART;TZID=Europe/Berlin;VALUE=DATE-TIME:20150522T090000
DTEND;TZID=Europe/Berlin;VALUE=DATE-TIME:20150522T180000
DTSTAMP;VALUE=DATE-TIME:20260421T092731Z
UID:56e1daf6a35945908ee82175f5b89c84@www.isprambiente.gov.it
CREATED;VALUE=DATE-TIME:20150518T185833Z
LAST-MODIFIED;VALUE=DATE-TIME:20230120T134033Z
LOCATION:Casa dell’Architettura\, Piazza Manfredo Fanti 47\, Roma
URL:https://www.isprambiente.gov.it/it/archivio/notizie-e-novita-normative
 /notizie-ispra/2015/05/consumo-di-suolo-e-dissesto-idrogeologico-1
END:VEVENT
BEGIN:VTIMEZONE
TZID:Europe/Berlin
X-LIC-LOCATION:Europe/Berlin
BEGIN:DAYLIGHT
DTSTART;VALUE=DATE-TIME:20150329T030000
TZNAME:CEST
TZOFFSETFROM:+0100
TZOFFSETTO:+0200
END:DAYLIGHT
END:VTIMEZONE
END:VCALENDAR
