BEGIN:VCALENDAR
VERSION:2.0
PRODID:-//Plone.org//NONSGML plone.app.event//EN
X-WR-TIMEZONE:Europe/Berlin
BEGIN:VEVENT
SUMMARY:E' scomparsa in un battito d'ali. Inchiesta lampo sulla sparizione
  della farfalla urbana e su come rinaturalizzare la città
DTSTART;TZID=Europe/Berlin;VALUE=DATE-TIME:20150527T103000
DTEND;TZID=Europe/Berlin;VALUE=DATE-TIME:20150527T130000
DTSTAMP;VALUE=DATE-TIME:20260421T095551Z
UID:578872d94aeb4386b3291009de9e1853@www.isprambiente.gov.it
CREATED;VALUE=DATE-TIME:20150518T163445Z
LAST-MODIFIED;VALUE=DATE-TIME:20230120T134033Z
LOCATION:Roma - Corpo Forestale dello Stato\,  Via Antonio Salandra\, 44
URL:https://www.isprambiente.gov.it/it/archivio/notizie-e-novita-normative
 /notizie-ispra/2015/05/e-scomparsa-in-un-battito-dali
END:VEVENT
BEGIN:VTIMEZONE
TZID:Europe/Berlin
X-LIC-LOCATION:Europe/Berlin
BEGIN:DAYLIGHT
DTSTART;VALUE=DATE-TIME:20150329T030000
TZNAME:CEST
TZOFFSETFROM:+0100
TZOFFSETTO:+0200
END:DAYLIGHT
END:VTIMEZONE
END:VCALENDAR
