BEGIN:VCALENDAR
VERSION:2.0
PRODID:-//Plone.org//NONSGML plone.app.event//EN
X-WR-TIMEZONE:Europe/Berlin
BEGIN:VEVENT
SUMMARY:Tueor ergo ero. Protezione delle strutture d’interesse storico e
  artistico dai rischi naturali: alcuni casi di studio nel mondo 
DTSTART;TZID=Europe/Berlin;VALUE=DATE-TIME:20150507T090000
DTEND;TZID=Europe/Berlin;VALUE=DATE-TIME:20150507T170000
DTSTAMP;VALUE=DATE-TIME:20260421T093500Z
UID:66085dacb8b147cab30548f7fabf4ac7@www.isprambiente.gov.it
CREATED;VALUE=DATE-TIME:20150401T121507Z
LAST-MODIFIED;VALUE=DATE-TIME:20230120T134033Z
LOCATION:Roma
URL:https://www.isprambiente.gov.it/it/archivio/notizie-e-novita-normative
 /notizie-ispra/2015/05/tueor-ergo-ero.-protezione-delle-strutture-d2019int
 eresse-storico-e-artistico-dai-rischi-naturali-alcuni-casi-di-studio-nel-m
 ondo
END:VEVENT
BEGIN:VTIMEZONE
TZID:Europe/Berlin
X-LIC-LOCATION:Europe/Berlin
BEGIN:DAYLIGHT
DTSTART;VALUE=DATE-TIME:20150329T030000
TZNAME:CEST
TZOFFSETFROM:+0100
TZOFFSETTO:+0200
END:DAYLIGHT
END:VTIMEZONE
END:VCALENDAR
