BEGIN:VCALENDAR
VERSION:2.0
PRODID:-//Plone.org//NONSGML plone.app.event//EN
X-WR-TIMEZONE:Europe/Berlin
BEGIN:VEVENT
SUMMARY:Il ruolo dell'Agricoltura biologica nella lotta ai cambiamenti cli
 matici
DTSTART;TZID=Europe/Berlin;VALUE=DATE-TIME:20150824T143000
DTEND;TZID=Europe/Berlin;VALUE=DATE-TIME:20150824T200000
DTSTAMP;VALUE=DATE-TIME:20260423T054528Z
UID:68e620d93ae5497db35f273ef0e7ff0b@www.isprambiente.gov.it
CREATED;VALUE=DATE-TIME:20150818T135431Z
LAST-MODIFIED;VALUE=DATE-TIME:20230120T134033Z
LOCATION:Milano\, EXPO 2015\, Parco della Biodiversità\, Teatro della Ter
 ra
URL:https://www.isprambiente.gov.it/it/archivio/notizie-e-novita-normative
 /notizie-ispra/2015/agosto/il-ruolo-dellagricoltura-biologica-nella-lotta-
 ai-cambiamenti-climatici
END:VEVENT
BEGIN:VTIMEZONE
TZID:Europe/Berlin
X-LIC-LOCATION:Europe/Berlin
BEGIN:DAYLIGHT
DTSTART;VALUE=DATE-TIME:20150329T030000
TZNAME:CEST
TZOFFSETFROM:+0100
TZOFFSETTO:+0200
END:DAYLIGHT
END:VTIMEZONE
END:VCALENDAR
