BEGIN:VCALENDAR
VERSION:2.0
PRODID:-//Plone.org//NONSGML plone.app.event//EN
X-WR-TIMEZONE:Europe/Berlin
BEGIN:VEVENT
SUMMARY:Conferenza internazionale sul cambiamento climatico di Parigi
DTSTART;TZID=Europe/Berlin;VALUE=DATE-TIME:20151130T090000
DTEND;TZID=Europe/Berlin;VALUE=DATE-TIME:20151211T170000
DTSTAMP;VALUE=DATE-TIME:20260423T083917Z
UID:a8e34eb7286747df8b6c3b4783faa502@www.isprambiente.gov.it
CREATED;VALUE=DATE-TIME:20151201T115343Z
LAST-MODIFIED;VALUE=DATE-TIME:20230120T134044Z
LOCATION:Parigi
URL:https://www.isprambiente.gov.it/it/archivio/notizie-e-novita-normative
 /notizie-ispra/2015/dicembre/cop21-conferenza-internazionale-sul-cambiamen
 to-climatico-1
END:VEVENT
BEGIN:VTIMEZONE
TZID:Europe/Berlin
X-LIC-LOCATION:Europe/Berlin
BEGIN:STANDARD
DTSTART;VALUE=DATE-TIME:20151025T020000
TZNAME:CET
TZOFFSETFROM:+0200
TZOFFSETTO:+0100
END:STANDARD
END:VTIMEZONE
END:VCALENDAR
