BEGIN:VCALENDAR
VERSION:2.0
PRODID:-//Plone.org//NONSGML plone.app.event//EN
X-WR-TIMEZONE:Europe/Berlin
BEGIN:VEVENT
SUMMARY:Escavi? Problema o opportunità?
DTSTART;TZID=Europe/Berlin;VALUE=DATE-TIME:20151211T090000
DTEND;TZID=Europe/Berlin;VALUE=DATE-TIME:20151211T130000
DTSTAMP;VALUE=DATE-TIME:20260423T061855Z
UID:823af76e3be94a4aa8f3bf9bea37a40f@www.isprambiente.gov.it
CREATED;VALUE=DATE-TIME:20151210T123551Z
DESCRIPTION:Nuove normative per la gestione dei dragaggi
LAST-MODIFIED;VALUE=DATE-TIME:20230120T134044Z
LOCATION:Livorno
URL:https://www.isprambiente.gov.it/it/archivio/notizie-e-novita-normative
 /notizie-ispra/2015/dicembre/escavi-problema-o-opportunita
END:VEVENT
BEGIN:VTIMEZONE
TZID:Europe/Berlin
X-LIC-LOCATION:Europe/Berlin
BEGIN:STANDARD
DTSTART;VALUE=DATE-TIME:20151025T020000
TZNAME:CET
TZOFFSETFROM:+0200
TZOFFSETTO:+0100
END:STANDARD
END:VTIMEZONE
END:VCALENDAR
