BEGIN:VCALENDAR
VERSION:2.0
PRODID:-//Plone.org//NONSGML plone.app.event//EN
X-WR-TIMEZONE:Europe/Berlin
BEGIN:VEVENT
SUMMARY:Incontro pubblico sul radon
DTSTART;TZID=Europe/Berlin;VALUE=DATE-TIME:20151203T173000
DTEND;TZID=Europe/Berlin;VALUE=DATE-TIME:20151203T190000
DTSTAMP;VALUE=DATE-TIME:20260423T091713Z
UID:d13db278b4d44d09b2126539bba24222@www.isprambiente.gov.it
CREATED;VALUE=DATE-TIME:20151203T094405Z
LAST-MODIFIED;VALUE=DATE-TIME:20230120T134044Z
LOCATION:Anzio
URL:https://www.isprambiente.gov.it/it/archivio/notizie-e-novita-normative
 /notizie-ispra/2015/dicembre/incontro-pubblico-sul-radon
END:VEVENT
BEGIN:VTIMEZONE
TZID:Europe/Berlin
X-LIC-LOCATION:Europe/Berlin
BEGIN:STANDARD
DTSTART;VALUE=DATE-TIME:20151025T020000
TZNAME:CET
TZOFFSETFROM:+0200
TZOFFSETTO:+0100
END:STANDARD
END:VTIMEZONE
END:VCALENDAR
