BEGIN:VCALENDAR
VERSION:2.0
PRODID:-//Plone.org//NONSGML plone.app.event//EN
X-WR-TIMEZONE:Europe/Berlin
BEGIN:VEVENT
SUMMARY:Presentazione del Rapporto L'Italia del Riciclo 2015
DTSTART;TZID=Europe/Berlin;VALUE=DATE-TIME:20151215T090000
DTEND;TZID=Europe/Berlin;VALUE=DATE-TIME:20151215T133000
DTSTAMP;VALUE=DATE-TIME:20260423T091926Z
UID:fea2d1dc54ae4d6b9ca08c87af7a99fd@www.isprambiente.gov.it
CREATED;VALUE=DATE-TIME:20151123T121042Z
LAST-MODIFIED;VALUE=DATE-TIME:20230120T134044Z
LOCATION:Roma
URL:https://www.isprambiente.gov.it/it/archivio/notizie-e-novita-normative
 /notizie-ispra/2015/dicembre/presentazione-del-rapporto-litalia-del-ricicl
 o-2015
END:VEVENT
BEGIN:VTIMEZONE
TZID:Europe/Berlin
X-LIC-LOCATION:Europe/Berlin
BEGIN:STANDARD
DTSTART;VALUE=DATE-TIME:20151025T020000
TZNAME:CET
TZOFFSETFROM:+0200
TZOFFSETTO:+0100
END:STANDARD
END:VTIMEZONE
END:VCALENDAR
