BEGIN:VCALENDAR
VERSION:2.0
PRODID:-//Plone.org//NONSGML plone.app.event//EN
X-WR-TIMEZONE:Europe/Berlin
BEGIN:VEVENT
SUMMARY:Rapporto rifiuti urbani 2015\, focus Veneto 
DTSTART;TZID=Europe/Berlin;VALUE=DATE-TIME:20151204T110000
DTEND;TZID=Europe/Berlin;VALUE=DATE-TIME:20151204T133000
DTSTAMP;VALUE=DATE-TIME:20260423T091712Z
UID:be07991f695441ea801c1241d0642323@www.isprambiente.gov.it
CREATED;VALUE=DATE-TIME:20151203T155237Z
LAST-MODIFIED;VALUE=DATE-TIME:20230120T134044Z
LOCATION:Padova
URL:https://www.isprambiente.gov.it/it/archivio/notizie-e-novita-normative
 /notizie-ispra/2015/dicembre/rapporto-rifiuti-urbani-2015-focus-veneto
END:VEVENT
BEGIN:VTIMEZONE
TZID:Europe/Berlin
X-LIC-LOCATION:Europe/Berlin
BEGIN:STANDARD
DTSTART;VALUE=DATE-TIME:20151025T020000
TZNAME:CET
TZOFFSETFROM:+0200
TZOFFSETTO:+0100
END:STANDARD
END:VTIMEZONE
END:VCALENDAR
