BEGIN:VCALENDAR
VERSION:2.0
PRODID:-//Plone.org//NONSGML plone.app.event//EN
X-WR-TIMEZONE:Europe/Berlin
BEGIN:VEVENT
SUMMARY:Convegno "Post-Metropoli"
DTSTART;TZID=Europe/Berlin;VALUE=DATE-TIME:20150706T100000
DTEND;TZID=Europe/Berlin;VALUE=DATE-TIME:20150706T130000
DTSTAMP;VALUE=DATE-TIME:20260423T091614Z
UID:63c9726a1c08474ab03ebea3c2b1ac11@www.isprambiente.gov.it
CREATED;VALUE=DATE-TIME:20150703T122802Z
LAST-MODIFIED;VALUE=DATE-TIME:20230120T134033Z
LOCATION:Milano\, Politecnico di Milano -  Aula Rogers - Via Ampere 2
URL:https://www.isprambiente.gov.it/it/archivio/notizie-e-novita-normative
 /notizie-ispra/2015/luglio/convegno-post-metropoli
END:VEVENT
BEGIN:VTIMEZONE
TZID:Europe/Berlin
X-LIC-LOCATION:Europe/Berlin
BEGIN:DAYLIGHT
DTSTART;VALUE=DATE-TIME:20150329T030000
TZNAME:CEST
TZOFFSETFROM:+0100
TZOFFSETTO:+0200
END:DAYLIGHT
END:VTIMEZONE
END:VCALENDAR
