BEGIN:VCALENDAR
VERSION:2.0
PRODID:-//Plone.org//NONSGML plone.app.event//EN
X-WR-TIMEZONE:Europe/Berlin
BEGIN:VEVENT
SUMMARY:Giornata sulla cartografia geologica dell'Etna
DTSTART;TZID=Europe/Berlin;VALUE=DATE-TIME:20150710T093000
DTEND;TZID=Europe/Berlin;VALUE=DATE-TIME:20150710T130000
DTSTAMP;VALUE=DATE-TIME:20260423T091841Z
UID:73e2a2618bae4ad09ea04b6ffb0ec982@www.isprambiente.gov.it
CREATED;VALUE=DATE-TIME:20150707T150045Z
LAST-MODIFIED;VALUE=DATE-TIME:20230120T134033Z
LOCATION:Sant’Agata li Battiati (CT)
URL:https://www.isprambiente.gov.it/it/archivio/notizie-e-novita-normative
 /notizie-ispra/2015/luglio/giornata-sulla-cartografia-geologica-delletna
END:VEVENT
BEGIN:VTIMEZONE
TZID:Europe/Berlin
X-LIC-LOCATION:Europe/Berlin
BEGIN:DAYLIGHT
DTSTART;VALUE=DATE-TIME:20150329T030000
TZNAME:CEST
TZOFFSETFROM:+0100
TZOFFSETTO:+0200
END:DAYLIGHT
END:VTIMEZONE
END:VCALENDAR
