BEGIN:VCALENDAR
VERSION:2.0
PRODID:-//Plone.org//NONSGML plone.app.event//EN
X-WR-TIMEZONE:Europe/Berlin
BEGIN:VEVENT
SUMMARY:La ricerca partecipativa e la tutela dell'ambiente
DTSTART;TZID=Europe/Berlin;VALUE=DATE-TIME:20150724T150000
DTEND;TZID=Europe/Berlin;VALUE=DATE-TIME:20150724T180000
DTSTAMP;VALUE=DATE-TIME:20260423T105007Z
UID:c33e9985d9624fae80a5264130f0bb52@www.isprambiente.gov.it
CREATED;VALUE=DATE-TIME:20150722T123634Z
LAST-MODIFIED;VALUE=DATE-TIME:20230120T134033Z
LOCATION:Venezia - Marghera
URL:https://www.isprambiente.gov.it/it/archivio/notizie-e-novita-normative
 /notizie-ispra/2015/luglio/la-ricerca-partecipativa-e-la-tutela-dellambien
 te
END:VEVENT
BEGIN:VTIMEZONE
TZID:Europe/Berlin
X-LIC-LOCATION:Europe/Berlin
BEGIN:DAYLIGHT
DTSTART;VALUE=DATE-TIME:20150329T030000
TZNAME:CEST
TZOFFSETFROM:+0100
TZOFFSETTO:+0200
END:DAYLIGHT
END:VTIMEZONE
END:VCALENDAR
