BEGIN:VCALENDAR
VERSION:2.0
PRODID:-//Plone.org//NONSGML plone.app.event//EN
X-WR-TIMEZONE:Europe/Berlin
BEGIN:VEVENT
SUMMARY:Le vie del mare per la crescita 
DTSTART;TZID=Europe/Berlin;VALUE=DATE-TIME:20150721T100000
DTEND;TZID=Europe/Berlin;VALUE=DATE-TIME:20150721T130000
DTSTAMP;VALUE=DATE-TIME:20260423T025739Z
UID:77bb893403734e68ab610a44fd0b318c@www.isprambiente.gov.it
CREATED;VALUE=DATE-TIME:20150721T094950Z
LAST-MODIFIED;VALUE=DATE-TIME:20230120T134033Z
LOCATION:Roma
URL:https://www.isprambiente.gov.it/it/archivio/notizie-e-novita-normative
 /notizie-ispra/2015/luglio/le-vie-del-mare-per-la-crescita
END:VEVENT
BEGIN:VTIMEZONE
TZID:Europe/Berlin
X-LIC-LOCATION:Europe/Berlin
BEGIN:DAYLIGHT
DTSTART;VALUE=DATE-TIME:20150329T030000
TZNAME:CEST
TZOFFSETFROM:+0100
TZOFFSETTO:+0200
END:DAYLIGHT
END:VTIMEZONE
END:VCALENDAR
