BEGIN:VCALENDAR
VERSION:2.0
PRODID:-//Plone.org//NONSGML plone.app.event//EN
X-WR-TIMEZONE:Europe/Berlin
BEGIN:VEVENT
SUMMARY:Ora e sempre resilienza. Interventi\, pianificazione e cultura del
  rischio per la difesa e l'autodifesa dalle alluvioni nelle aree urbane
DTSTART;TZID=Europe/Berlin;VALUE=DATE-TIME:20150703T093000
DTEND;TZID=Europe/Berlin;VALUE=DATE-TIME:20150703T160000
DTSTAMP;VALUE=DATE-TIME:20260423T074454Z
UID:be2e7fc123904934aaaa354456fe7d6b@www.isprambiente.gov.it
CREATED;VALUE=DATE-TIME:20150702T133021Z
LAST-MODIFIED;VALUE=DATE-TIME:20230120T134033Z
LOCATION:Roma
URL:https://www.isprambiente.gov.it/it/archivio/notizie-e-novita-normative
 /notizie-ispra/2015/luglio/ora-e-sempre-resilienza.-interventi-pianificazi
 one-e-cultura-del-rischio-per-la-difesa-e-lautodifesa-delle-alluvioni-nell
 e-aree-urbane
END:VEVENT
BEGIN:VTIMEZONE
TZID:Europe/Berlin
X-LIC-LOCATION:Europe/Berlin
BEGIN:DAYLIGHT
DTSTART;VALUE=DATE-TIME:20150329T030000
TZNAME:CEST
TZOFFSETFROM:+0100
TZOFFSETTO:+0200
END:DAYLIGHT
END:VTIMEZONE
END:VCALENDAR
