BEGIN:VCALENDAR
VERSION:2.0
PRODID:-//Plone.org//NONSGML plone.app.event//EN
X-WR-TIMEZONE:Europe/Berlin
BEGIN:VEVENT
SUMMARY:Giornata informativa sulla rete europea EMODnet
DTSTART;TZID=Europe/Berlin;VALUE=DATE-TIME:20151125T090000
DTEND;TZID=Europe/Berlin;VALUE=DATE-TIME:20151125T163000
DTSTAMP;VALUE=DATE-TIME:20260423T034948Z
UID:1c24e1637cbd40eba3e5f1ad0b1c7c1f@www.isprambiente.gov.it
CREATED;VALUE=DATE-TIME:20151117T121426Z
LAST-MODIFIED;VALUE=DATE-TIME:20230120T134044Z
LOCATION:Roma
URL:https://www.isprambiente.gov.it/it/archivio/notizie-e-novita-normative
 /notizie-ispra/2015/novembre/giornata-informativa-sulla-rete-europea-emodn
 et
END:VEVENT
BEGIN:VTIMEZONE
TZID:Europe/Berlin
X-LIC-LOCATION:Europe/Berlin
BEGIN:STANDARD
DTSTART;VALUE=DATE-TIME:20151025T020000
TZNAME:CET
TZOFFSETFROM:+0200
TZOFFSETTO:+0100
END:STANDARD
END:VTIMEZONE
END:VCALENDAR
