BEGIN:VCALENDAR
VERSION:2.0
PRODID:-//Plone.org//NONSGML plone.app.event//EN
X-WR-TIMEZONE:Europe/Berlin
BEGIN:VEVENT
SUMMARY:Il cammino verso l’Ecolabel UE del turista che sceglie la qualit
 à
DTSTART;TZID=Europe/Berlin;VALUE=DATE-TIME:20151126T170000
DTEND;TZID=Europe/Berlin;VALUE=DATE-TIME:20151126T183000
DTSTAMP;VALUE=DATE-TIME:20260423T021359Z
UID:0621b7ee585f4373b4a42c55dbad0fa2@www.isprambiente.gov.it
CREATED;VALUE=DATE-TIME:20151112T084511Z
LAST-MODIFIED;VALUE=DATE-TIME:20230120T134044Z
LOCATION:Roma
URL:https://www.isprambiente.gov.it/it/archivio/notizie-e-novita-normative
 /notizie-ispra/2015/novembre/il-cammino-verso-l2019ecolabel-ue-del-turista
 -che-sceglie-la-qualita
END:VEVENT
BEGIN:VTIMEZONE
TZID:Europe/Berlin
X-LIC-LOCATION:Europe/Berlin
BEGIN:STANDARD
DTSTART;VALUE=DATE-TIME:20151025T020000
TZNAME:CET
TZOFFSETFROM:+0200
TZOFFSETTO:+0100
END:STANDARD
END:VTIMEZONE
END:VCALENDAR
